BEGIN:VCALENDAR
VERSION:2.0
METHOD:PUBLISH
PRODID::-//Obvius//NONSGML ICal//DA
BEGIN:VEVENT
UID:2975798@cms.polsci.ku.dk
DESCRIPTION:How can a state respond to crises in the cyber domain? Centre 
 for Military Studies\, in cooperation Dr. Benjamin Jensen\, Atlantic Counc
 il\, invite students to participate in a cyber crisis simulation. The scen
 ario will challenge participants to respond to a crisis with a rivalling s
 tate.\n\nhttps://cms.polsci.ku.dk/events/simulation-how-states-use-cyber-c
 apabilities-to-respond-to-a-crisis/
SUMMARY:Simulation: How States Use Cyber Capabilities to Respond to a Cris
 is 
LOCATION:CSS\, Øster Farimagsgade 5\, Copenhagen K Room 1.1.17
ORGANIZER:Centre for Military Studies and the Atlantic Council
DTSTART:20180613T110000Z
DTSTAMP:20180613T110000Z
DTEND:20180613T130000Z
END:VEVENT
END:VCALENDAR
