BEGIN:VCALENDAR
VERSION:2.0
METHOD:PUBLISH
PRODID::-//Obvius//NONSGML ICal//DA
BEGIN:VEVENT
UID:2092752@cms.polsci.ku.dk
DESCRIPTION:I forbindelse forbindelse med udgivelsen af "Russisk politik 
 i Arktis efter Ukrainekrisen" afholder CMS et seminar\, hvor vi vil disku
 tere russisk politik i Arktis og perspektivere rapportens analyse. \n\nh
 ttps://cms.polsci.ku.dk/events/russisk-politik-i-arktis/
SUMMARY:Seminar: Russisk politik i Arktis efter Ukrainekrisen
CATEGORIES:seminar
LOCATION:Lokale 2.1.12
ORGANIZER:Center for Militære Studier\, Københavns Universitet
DTSTART:20160518T133000Z
DTSTAMP:20160518T133000Z
DTEND:20160518T150000Z
END:VEVENT
END:VCALENDAR
