BEGIN:VCALENDAR
VERSION:2.0
METHOD:PUBLISH
PRODID::-//Obvius//NONSGML ICal//DA
BEGIN:VEVENT
UID:2704247@cms.polsci.ku.dk
DESCRIPTION:Asiens økonomiske mirakel over for de sikkerhedspolitiske tru
 sler - Hvor står Kina? Kom og hør professor Jørgen Ørstrøm Møller fo
 rtælle om Kinas rolle i den økonomiske udvikling i Asien samt de sikker
 hedspolitiske trusler i regionen.\n\nhttps://cms.polsci.ku.dk/events/offen
 tlig-forelaesning-v.-professor-joergen-oerstroem-moeller/
SUMMARY:Offentlig forelæsning v. professor Jørgen Ørstrøm Møller
LOCATION:Københavns Universitet\, Center for Sundhed & Samfund\, Øster F
 arimagsgade 5\, 1353 København K\, Lokale: Offentliggøres snarest
ORGANIZER:ThinkChina og Center for Militære Studier
DTSTART:20171009T130000Z
DTSTAMP:20171009T130000Z
DTEND:20171009T150000Z
END:VEVENT
END:VCALENDAR
