BEGIN:VCALENDAR
VERSION:2.0
METHOD:PUBLISH
PRODID::-//Obvius//NONSGML ICal//DA
BEGIN:VEVENT
UID:3481325@cms.polsci.ku.dk
DESCRIPTION:The Baltic Sea Strategy Forum 2019 addresses questions pertain
 ing to NATO’s Northern flank and particularly its Baltic Sea operations 
 in an era of Great Power competition and the different initiatives and cha
 llenges in the region. The headline of this year's forum is “The Return 
 of Great-Power Competition to the Northern Flank: Challenges\, Initiatives
 \, Responsibility”\n\nhttps://cms.polsci.ku.dk/events/conference-baltic-
 sea-strategy-forum-2019/
SUMMARY:Conference: Baltic Sea Strategy Forum 2019
LOCATION:Raiffeisenstraße 2\, 24103 Kiel\, Germany Hotel Atlantic Raiffei
 senstraße 2 24103 Kiel Deutschland
ORGANIZER:Institute for Security Policy at Kiel University\, Centre for Mi
 litary Studies (CMS)\, Åbo Akademi University & Swedish Defence Universit
 y.
DTSTART:20191030T073000Z
DTSTAMP:20191030T073000Z
DTEND:20191030T143000Z
END:VEVENT
END:VCALENDAR
