BEGIN:VCALENDAR
VERSION:2.0
METHOD:PUBLISH
PRODID::-//Obvius//NONSGML ICal//DA
BEGIN:VEVENT
UID:2663435@cms.polsci.ku.dk
DESCRIPTION:What are the critical maritime security challenges of the conf
 ined Baltic Sea region today and to what extent are they inter-regional? 
 \n\nhttps://cms.polsci.ku.dk/events/conference-baltic-sea-strategy-forum-2
 017/
SUMMARY:Conference: Baltic Sea Strategy Forum 2017
CATEGORIES:Konference
LOCATION:Åbo Akademi University\, Strandgatan 2\, 65100 Vaasa\, Finland
ORGANIZER:Åbo Akademi University\, Center for Militære Studier\, Swedish
  Defence University & Institute for Security Policy at Kiel University 
DTSTART:20171130T090000Z
DTSTAMP:20171130T090000Z
DTEND:20171130T153000Z
END:VEVENT
END:VCALENDAR
