BEGIN:VCALENDAR
VERSION:2.0
METHOD:PUBLISH
PRODID::-//Obvius//NONSGML ICal//DA
BEGIN:VEVENT
UID:895183@cms.polsci.ku.dk
DESCRIPTION:CMS afholder seminaret "Mali: Ny flyvende dansk sikkerhedspoli
 tik' torsdag den 7. februar 2013 kl. 13:15-15:00.\n\nhttps://cms.polsci.ku
 .dk/events/mali/
SUMMARY:Seminar: Mali: Ny flyvende dansk sikkerhedspolitik
CATEGORIES:seminar
LOCATION:Institut for Statskundskab\, lokale 7.0.34
ORGANIZER:Center for Militære Studier
DTSTART:20130207T121500Z
DTSTAMP:20130207T121500Z
DTEND:20130207T140000Z
END:VEVENT
END:VCALENDAR
