BEGIN:VCALENDAR
VERSION:2.0
METHOD:PUBLISH
PRODID::-//Obvius//NONSGML ICal//DA
BEGIN:VEVENT
UID:1031969@cms.polsci.ku.dk
DESCRIPTION:Forelæsning ved Professor Paul W. Kahn (Yale)\, en af USA's f
 remmeste politiske tænkere.\n\nhttps://cms.polsci.ku.dk/events/kahn2013/
SUMMARY:Naturalizing Violence: Law of Nations in the Origins of American L
 aw
LOCATION:Lokale 313\, Bispetorvsannekset\, Bispetorvet 1-3\, 1167 Københa
 vn K
ORGANIZER:Center for Militære Studier (KU)\, Centre for International Law
  and Justice (KU)\, Center for Amerikanske studier (SDU)
DTSTART:20130510T121500Z
DTSTAMP:20130510T121500Z
DTEND:20130510T140000Z
END:VEVENT
END:VCALENDAR
